BEGIN:VCALENDAR
VERSION:2.0
PRODID:-// - ECPv6.15.20//NONSGML v1.0//EN
CALSCALE:GREGORIAN
METHOD:PUBLISH
X-ORIGINAL-URL:https://www.naturecowichan.net
X-WR-CALDESC:Events for 
REFRESH-INTERVAL;VALUE=DURATION:PT1H
X-Robots-Tag:noindex
X-PUBLISHED-TTL:PT1H
BEGIN:VTIMEZONE
TZID:America/Los_Angeles
BEGIN:DAYLIGHT
TZOFFSETFROM:-0800
TZOFFSETTO:-0700
TZNAME:PDT
DTSTART:20240310T100000
END:DAYLIGHT
BEGIN:STANDARD
TZOFFSETFROM:-0700
TZOFFSETTO:-0800
TZNAME:PST
DTSTART:20241103T090000
END:STANDARD
BEGIN:DAYLIGHT
TZOFFSETFROM:-0800
TZOFFSETTO:-0700
TZNAME:PDT
DTSTART:20250309T100000
END:DAYLIGHT
BEGIN:STANDARD
TZOFFSETFROM:-0700
TZOFFSETTO:-0800
TZNAME:PST
DTSTART:20251102T090000
END:STANDARD
BEGIN:DAYLIGHT
TZOFFSETFROM:-0800
TZOFFSETTO:-0700
TZNAME:PDT
DTSTART:20260308T100000
END:DAYLIGHT
BEGIN:STANDARD
TZOFFSETFROM:-0700
TZOFFSETTO:-0800
TZNAME:PST
DTSTART:20261101T090000
END:STANDARD
END:VTIMEZONE
BEGIN:VEVENT
DTSTART;TZID=America/Los_Angeles:20251103T093000
DTEND;TZID=America/Los_Angeles:20251103T113000
DTSTAMP:20260420T021143
CREATED:20250823T200448Z
LAST-MODIFIED:20251024T215608Z
UID:37679-1762162200-1762169400@www.naturecowichan.net
SUMMARY:Nature Cowichan Speaker-Christoph Steeger
DESCRIPTION:Christoph Steeger is a Conservation Biologist residing alongside our river. His talk is entitled: The Cowichan Watershed: A Natural History Perspective for Environmental Stewardship. In it he will address questions such as: What is a watershed? What are the important features of our watershed? How are things interconnected? What can we focus on to help maintain or improve our watershed health?  Bring a toonie for coffee or email cvns@naturecowichan.net for the zoom link.
URL:https://www.naturecowichan.net/event/nature-cowichan-speaker-4/
LOCATION:Fish Health Building\, 1080 Wharncliffe Road\, Duncan\, British Columbia\, V9L2K7\, Canada
ORGANIZER;CN="Nature Cowichan":MAILTO:cvns@naturecowichan.net
END:VEVENT
BEGIN:VEVENT
DTSTART;TZID=America/Los_Angeles:20251103T100000
DTEND;TZID=America/Los_Angeles:20251103T120000
DTSTAMP:20260420T021143
CREATED:20251021T180845Z
LAST-MODIFIED:20251021T180845Z
UID:37811-1762164000-1762171200@www.naturecowichan.net
SUMMARY:Water Quality Monitoring
DESCRIPTION:Join us for a morning of hands-on water quality monitoring across the Somenos Watershed! We’ll visit Somenos\, Bings\, Averill\, and Richards Creeks\, carpooling between sites to collect samples and record data. It’s a great opportunity to learn about key water quality parameters and how our creeks are affected by development and climate change. \nIf you are interested in joining us\, please email us at phaedra@somenosmarsh.com for more details.
URL:https://www.naturecowichan.net/event/water-quality-monitoring/
LOCATION:Somenos Creek Dog Park\, Somenos Creek Dog Park\, Duncan\, BC\, V9L3G1\, Canada
ORGANIZER;CN="Somenos Marsh Wildlife Society":MAILTO:info@somenosmarsh.com
END:VEVENT
BEGIN:VEVENT
DTSTART;TZID=America/Los_Angeles:20251103T120000
DTEND;TZID=America/Los_Angeles:20251103T143000
DTSTAMP:20260420T021143
CREATED:20251021T174800Z
LAST-MODIFIED:20251021T174800Z
UID:37804-1762171200-1762180200@www.naturecowichan.net
SUMMARY:Riparian Restoration - Streamside Stewardship Partners Program
DESCRIPTION:Join us for an afternoon of restoring the riparian area along Bings and Menzies Creeks. Through our Streamside Stewardship Partners Program we are working with private landowners along our watersheds creeks to help restore and enhance riparian function through invasive removal and native species planting. You can expect to learn about riparian areas\, invasive and native species and restoration processes. \nIf you would like to hear a little bit more about this event or would like to join us\, please email us at phaedra@somenosmarsh.com.
URL:https://www.naturecowichan.net/event/riparian-restoration-streamside-stewardship-partners-program/
LOCATION:SMWS Office\, 55 Station Street\, Duncan\, BC\, V9L1M2\, Canada
ORGANIZER;CN="Somenos Marsh Wildlife Society":MAILTO:info@somenosmarsh.com
END:VEVENT
END:VCALENDAR