BEGIN:VCALENDAR
VERSION:2.0
PRODID:-// - ECPv6.15.20//NONSGML v1.0//EN
CALSCALE:GREGORIAN
METHOD:PUBLISH
X-ORIGINAL-URL:https://www.naturecowichan.net
X-WR-CALDESC:Events for 
REFRESH-INTERVAL;VALUE=DURATION:PT1H
X-Robots-Tag:noindex
X-PUBLISHED-TTL:PT1H
BEGIN:VTIMEZONE
TZID:America/Los_Angeles
BEGIN:DAYLIGHT
TZOFFSETFROM:-0800
TZOFFSETTO:-0700
TZNAME:PDT
DTSTART:20250309T100000
END:DAYLIGHT
BEGIN:STANDARD
TZOFFSETFROM:-0700
TZOFFSETTO:-0800
TZNAME:PST
DTSTART:20251102T090000
END:STANDARD
BEGIN:DAYLIGHT
TZOFFSETFROM:-0800
TZOFFSETTO:-0700
TZNAME:PDT
DTSTART:20260308T100000
END:DAYLIGHT
BEGIN:STANDARD
TZOFFSETFROM:-0700
TZOFFSETTO:-0800
TZNAME:PST
DTSTART:20261101T090000
END:STANDARD
BEGIN:DAYLIGHT
TZOFFSETFROM:-0800
TZOFFSETTO:-0700
TZNAME:PDT
DTSTART:20270314T100000
END:DAYLIGHT
BEGIN:STANDARD
TZOFFSETFROM:-0700
TZOFFSETTO:-0800
TZNAME:PST
DTSTART:20271107T090000
END:STANDARD
END:VTIMEZONE
BEGIN:VEVENT
DTSTART;TZID=America/Los_Angeles:20260420T103000
DTEND;TZID=America/Los_Angeles:20260420T130000
DTSTAMP:20260420T032045
CREATED:20260326T183034Z
LAST-MODIFIED:20260326T183034Z
UID:38045-1776681000-1776690000@www.naturecowichan.net
SUMMARY:Holland Creek Broom Busting
DESCRIPTION:Meet up is at the Mackie Rd Trail Head. The Ladysmith School will assist in a Community Broom Cut around Colonia Bridge area. Instruction\, gloves\, and loppers will be provided. Leads – Patrice and Monica \n 
URL:https://www.naturecowichan.net/event/holland-creek-broom-busting/
LOCATION:Holland Creek\, 374 Dogwood Dr\,\, Ladysmith\, BC\, V9G 0B9\, Canada
ORGANIZER;CN="Friends of Holland Creek":MAILTO:hollandcreekinvasives@gmail.com
END:VEVENT
BEGIN:VEVENT
DTSTART;TZID=America/Los_Angeles:20260420T190000
DTEND;TZID=America/Los_Angeles:20260420T203000
DTSTAMP:20260420T032045
CREATED:20260320T200402Z
LAST-MODIFIED:20260320T200402Z
UID:38028-1776711600-1776717000@www.naturecowichan.net
SUMMARY:CWB Speakers Night - Busy beavers: Engineers of ecosystems and watersheds?
DESCRIPTION:Busy beavers: Engineers of ecosystems and watersheds?\nJoin Aquatic Habitat Biologist Lars Reese-Hansen as he explores the wide-ranging effects of beavers on landscapes throughout North America and beyond.\nBeavers are a familiar and charismatic animal found throughout most of Canada\, including here in the Quw’utsun (Cowichan) watershed. Their dam and lodge building activities are well-known and have significant impacts on the ways that water moves through and is stored throughout our watersheds. Consequently\, beavers are sometimes referred to as “ecosystem engineers”; however\, the broad-ranging influences that beavers have on the watersheds they call home are not always well understood\, leading to significant discourse around whether beavers positively or negatively shape watersheds and the communities within them.\n \nWhen: Monday\, April 20th\, 2026\, from 7-8:30pm.\nWhere: Vancouver Island University\, Cowichan Campus\, Lecture Hall 140 (2011 University Way\, Duncan).\nCost: Free!
URL:https://www.naturecowichan.net/event/cwb-speakers-night-busy-beavers-engineers-of-ecosystems-and-watersheds/
LOCATION:VIU Cowichan Campus\, 2011 University Way\, North Cowichan\, British Columbia\, V9L 0C7\, Canada
ORGANIZER;CN="Cowichan Watershed Board":MAILTO:info@cowichanwatershedboard.ca
END:VEVENT
END:VCALENDAR